BEGIN:VCALENDAR
VERSION:2.0
PRODID:-//Fahrschule Gödde MobilitätsCoaching GmbH - ECPv6.15.20//NONSGML v1.0//EN
CALSCALE:GREGORIAN
METHOD:PUBLISH
X-WR-CALNAME:Fahrschule Gödde MobilitätsCoaching GmbH
X-ORIGINAL-URL:https://fahrschule-goedde.de
X-WR-CALDESC:Veranstaltungen für Fahrschule Gödde MobilitätsCoaching GmbH
REFRESH-INTERVAL;VALUE=DURATION:PT1H
X-Robots-Tag:noindex
X-PUBLISHED-TTL:PT1H
BEGIN:VTIMEZONE
TZID:UTC
BEGIN:STANDARD
TZOFFSETFROM:+0000
TZOFFSETTO:+0000
TZNAME:UTC
DTSTART:20250101T000000
END:STANDARD
END:VTIMEZONE
BEGIN:VEVENT
DTSTART;TZID=UTC:20260521T073000
DTEND;TZID=UTC:20260521T153000
DTSTAMP:20260422T071820
CREATED:20260305T093229Z
LAST-MODIFIED:20260305T174448Z
UID:42360-1779348600-1779377400@fahrschule-goedde.de
SUMMARY:Frachtpapiere\, Verpackungssymbolik\, Image\, Marktordnung | Lkw-Spezial 2
DESCRIPTION:Modul: Spezielle Vorschriften | Frachtpapiere\, Verpackungssymbolik\, Image\, Marktordnung\nLasst uns weiter in die Welt des Güterverkehrs eintauchen\, wo die Vorgaben klar gesteckt sind. \nDu repräsentierst Dein Unternehmen und solltest die Fähigkeit haben\, Dein Unternehmen im besten Licht erscheinen zu lassen. Klingt nach einem Plan\, oder? Dazu benötigst Du natürlich gute Umgangsformen und ein gewinnendes Auftreten. \nUm im Güterverkehr zu rocken\, sollte man nicht nur die Straßen kennen\, sondern auch die Regeln des Spiels. Und da kommen wir ins Spiel ;-).Deshalb kümmern wir uns zusammen darum. Es gibt da so ein paar Wörter\, die man draufhaben sollte: Frachtführer\, Absender\, Verlader\, Versender\, Spediteur\, Speditionsvertrag\, Frachtvertrag\, Fracht – das Grundvokabular für alle\, die im Güterverkehr den Ton angeben wollen. \nKenntnisbereich 3 für Lkwfahrer
URL:https://fahrschule-goedde.de/event/lp-lkw-spezial2-21-05-26/
LOCATION:Standort Lippstadt | Fahrschule Gödde MobilitätsCoaching GmbH\, Hansastr. 39\, Lippstadt\, NRW\, 59557\, Deutschland
CATEGORIES:35 stündige Weiterbildung,Kenntnisbereich 3,LKW,Module der 35stündigen Weiterbildung in Lippstadt,Schlüsselzahl 95,Weiterbildung BKrFQ,werktags
ATTACH;FMTTYPE=image/png:https://fahrschule-goedde.de/wp-content/uploads/2024/11/lkw-spezial-2.png
ORGANIZER;CN="Fahrschule G%C3%B6dde Mobilit%C3%A4tsCoaching GmbH":MAILTO:info@fahrschule-goedde.de
END:VEVENT
END:VCALENDAR