BEGIN:VCALENDAR
VERSION:2.0
PRODID:-//Fahrschule Gödde MobilitätsCoaching GmbH - ECPv6.15.20//NONSGML v1.0//EN
CALSCALE:GREGORIAN
METHOD:PUBLISH
X-WR-CALNAME:Fahrschule Gödde MobilitätsCoaching GmbH
X-ORIGINAL-URL:https://fahrschule-goedde.de
X-WR-CALDESC:Veranstaltungen für Fahrschule Gödde MobilitätsCoaching GmbH
REFRESH-INTERVAL;VALUE=DURATION:PT1H
X-Robots-Tag:noindex
X-PUBLISHED-TTL:PT1H
BEGIN:VTIMEZONE
TZID:UTC
BEGIN:STANDARD
TZOFFSETFROM:+0000
TZOFFSETTO:+0000
TZNAME:UTC
DTSTART:20250101T000000
END:STANDARD
END:VTIMEZONE
BEGIN:VEVENT
DTSTART;TZID=UTC:20260530T080000
DTEND;TZID=UTC:20260530T160000
DTSTAMP:20260422T072042
CREATED:20260305T072531Z
LAST-MODIFIED:20260305T174736Z
UID:42907-1780128000-1780156800@fahrschule-goedde.de
SUMMARY:Richtig lenken\, ruhen und arbeiten | Lenk- und Ruhezeiten | Sozialvorschriften
DESCRIPTION:Richtig Lenken\, Ruhen und Arbeiten – Alle Regeln – Alle Fakten! \nHier geht es explizit um die Neuerungen aus dem Mobilitätspaket. Vorschriften zu Lenk- und Ruhezeiten in der EU (VO EG 561/2006)\, in Deutschland ( FPersV – Fahrpersonalverordnung)\, sowie die Arbeitszeiten (ArbZG – Arbeitszeitgesetz). Die die Wechselwirkung der 3 Module /Regelungen und die Probleme die sich daraus im Alltag ergeben. Hier verraten wir Euch welche Chancen in den Regelungen stecken. Wer weiß wie es geht hat wesentlich weniger Stress im Alltag und kann der nächsten Kontrolle entspannt entgegensehen. \nKenntnisbereich 2 für Lkw- und Busfahrer
URL:https://fahrschule-goedde.de/event/lp-richtig-lenken-30-05-26/
LOCATION:Standort Lippstadt | Fahrschule Gödde MobilitätsCoaching GmbH\, Hansastr. 39\, Lippstadt\, NRW\, 59557\, Deutschland
CATEGORIES:35 stündige Weiterbildung,Kenntnisbereich 2,LKW | Bus,Module der 35stündigen Weiterbildung in Lippstadt,Samstag,Schlüsselzahl 95,Weiterbildung BKrFQ
ATTACH;FMTTYPE=image/png:https://fahrschule-goedde.de/wp-content/uploads/2023/08/Richtig-Ruhen.png
ORGANIZER;CN="Fahrschule G%C3%B6dde Mobilit%C3%A4tsCoaching GmbH":MAILTO:info@fahrschule-goedde.de
END:VEVENT
END:VCALENDAR