BEGIN:VCALENDAR
VERSION:2.0
PRODID:-//Fahrschule Gödde MobilitätsCoaching GmbH - ECPv6.15.20//NONSGML v1.0//EN
CALSCALE:GREGORIAN
METHOD:PUBLISH
X-WR-CALNAME:Fahrschule Gödde MobilitätsCoaching GmbH
X-ORIGINAL-URL:https://fahrschule-goedde.de
X-WR-CALDESC:Veranstaltungen für Fahrschule Gödde MobilitätsCoaching GmbH
REFRESH-INTERVAL;VALUE=DURATION:PT1H
X-Robots-Tag:noindex
X-PUBLISHED-TTL:PT1H
BEGIN:VTIMEZONE
TZID:UTC
BEGIN:STANDARD
TZOFFSETFROM:+0000
TZOFFSETTO:+0000
TZNAME:UTC
DTSTART:20250101T000000
END:STANDARD
END:VTIMEZONE
BEGIN:VEVENT
DTSTART;VALUE=DATE:20260504
DTEND;VALUE=DATE:20260927
DTSTAMP:20260423T090442
CREATED:20260321T080010Z
LAST-MODIFIED:20260322T091455Z
UID:28901-1777852800-1790467199@fahrschule-goedde.de
SUMMARY:TQ3 | Personen befördern | Führerschein D/DE | Meschede | Start am 04.05.2026
DESCRIPTION:Professionelle EU-Kraftfahrer – Ausbildung für Bus in Meschede – mit Arbeitsplatzgarantie!\n\n100% Förderung über Bildungsgutschein für Berufskraftfahrer\n\nUnser Angebot bei meinNOW der Arbeitsagentur.\n\n \n\n\n\ninkl. Führerschein Klasse D/DE\ninkl. beschleunigter Grundqualifikation\, Personenverkehr (inkl. speziellem Prüfungstraining auf die IHK-Prüfung)\ninkl. betrieblicher Lernphase in einem Busunternehmen\ninkl. TQ3 mit der Perspektive zum Gesellenbrief „Berufskraftfahrer“\noptional: Kurs „besondere Ausbildungsförderung“\nVollzeit\n\nWir sind die Spezialisten für eine optimale und Bus-Ausbildung…\n… und wir arbeiten mit den richtig guten Busunternehmen zusammen deshalb bieten wir Dir zusätzlich:\n\nKein Reiseverkehr\nJeden Abend zu Hause\nArbeitsplatz-Garantie\nTop Arbeitgeber\nGute Arbeitsbedingungen\n\n… und als zertifizierter Bildungsträger können wir Dir sogar eine 100% Förderung der Kosten in Aussicht stellen.\nWeitere Informationen klicken und direkt durchstarten
URL:https://fahrschule-goedde.de/event/ms-bus-fahrer-werden-04-05-26/
LOCATION:Standort Meschede | Fahrschule Gödde MobilitätsCoaching GmbH\, Arnsberger Str. 14\, Meschede\, NRW\, 59872\, Deutschland
CATEGORIES:Ausbildung BKrFQ,Ausbildung zum EU-Kraftfahrer in Meschede,TQ3 | Personen befördern | Führerschein D/DE
ATTACH;FMTTYPE=image/png:https://fahrschule-goedde.de/wp-content/uploads/2023/08/BKF_TQ3_Bus.png
ORGANIZER;CN="Fahrschule G%C3%B6dde Mobilit%C3%A4tsCoaching GmbH":MAILTO:info@fahrschule-goedde.de
END:VEVENT
END:VCALENDAR